BEGIN:VCALENDAR
VERSION:2.0
PRODID:-//IFMSA - Argentina - ECPv6.0.13//NONSGML v1.0//EN
CALSCALE:GREGORIAN
METHOD:PUBLISH
X-ORIGINAL-URL:https://www.ifmsa-argentina.com.ar
X-WR-CALDESC:Eventos para IFMSA - Argentina
REFRESH-INTERVAL;VALUE=DURATION:PT1H
X-Robots-Tag:noindex
X-PUBLISHED-TTL:PT1H
BEGIN:VTIMEZONE
TZID:America/Argentina/Tucuman
BEGIN:STANDARD
TZOFFSETFROM:-0300
TZOFFSETTO:-0300
TZNAME:-03
DTSTART:20210101T000000
END:STANDARD
END:VTIMEZONE
BEGIN:VEVENT
DTSTART;VALUE=DATE:20210107
DTEND;VALUE=DATE:20210117
DTSTAMP:20260422T140536
CREATED:20201229T233138Z
LAST-MODIFIED:20201229T233138Z
UID:3322-1609977600-1610841599@www.ifmsa-argentina.com.ar
SUMMARY:Online Américas RM2021
DESCRIPTION:¡Como sabrán\, estamos cerca de nuestra Reunión Regional\, que será Online\, y tenemos grandes noticias!\nLa Reunión Regional de las Américas es el evento más importante del año para nuestra región\, en el que se presentan y discuten muchas propuestas importantes con las ONM de nuestra asombrosa región. En esta ocasión\, estamos organizando nuestra primera Reunión Regional en Línea\, por lo que esperamos a todas nuestras ONM con delegaciones completas llenas de miembros motivados y entusiastas dispuestos a aprender más sobre nuestra Federación\, sus Comités Permanentes\, Desarrollo de Capacidades\, Desarrollo Organizacional y más.\n\nPodrán ver las transmisiones por las redes de IFMSA\, además existen grupos de facebook\, para tenerte más informado.\nPara más información\, escribinos al mail de info@ifmsa-argentina.com.ar \ny sumate al grupo de facebook para más información:\nClic Aquí\nPronto compartiremos los enlaces para unirnos a los grupos de WhatsApp para cada sesión y también al Discord Server general para el evento.
URL:https://www.ifmsa-argentina.com.ar/eventos/online-americas-rm2021/
LOCATION:Virtual
CATEGORIES:Reunión Regional
ATTACH;FMTTYPE=image/jpeg:https://www.ifmsa-argentina.com.ar/wp-content/uploads/2020/12/Delegacion-de-RM-Online-3.jpg
END:VEVENT
END:VCALENDAR